BEGIN:VCALENDAR
VERSION:2.0
PRODID:-//Kai Muegge Physical Mediumship - ECPv6.15.20//NONSGML v1.0//EN
CALSCALE:GREGORIAN
METHOD:PUBLISH
X-WR-CALNAME:Kai Muegge Physical Mediumship
X-ORIGINAL-URL:https://kaimuegge.com
X-WR-CALDESC:Veranstaltungen für Kai Muegge Physical Mediumship
REFRESH-INTERVAL;VALUE=DURATION:PT1H
X-Robots-Tag:noindex
X-PUBLISHED-TTL:PT1H
BEGIN:VTIMEZONE
TZID:UTC
BEGIN:STANDARD
TZOFFSETFROM:+0000
TZOFFSETTO:+0000
TZNAME:UTC
DTSTART:20240101T000000
END:STANDARD
END:VTIMEZONE
BEGIN:VEVENT
DTSTART;TZID=UTC:20250315T190000
DTEND;TZID=UTC:20250315T235900
DTSTAMP:20260424T100649
CREATED:20241114T014957Z
LAST-MODIFIED:20250218T141310Z
UID:2688-1742065200-1742083140@kaimuegge.com
SUMMARY:15th March 2025 Aarhus Denmark - Cabinet-Séance -fully booked
DESCRIPTION:[vc_row type=“in_container“ full_screen_row_position=“middle“ column_margin=“default“ column_direction=“default“ column_direction_tablet=“default“ column_direction_phone=“default“ scene_position=“center“ text_color=“dark“ text_align=“left“ row_border_radius=“none“ row_border_radius_applies=“bg“ overflow=“visible“ overlay_strength=“0.3″ gradient_direction=“left_to_right“ shape_divider_position=“bottom“ bg_image_animation=“none“][vc_column column_padding=“no-extra-padding“ column_padding_tablet=“inherit“ column_padding_phone=“inherit“ column_padding_position=“all“ column_element_direction_desktop=“default“ column_element_spacing=“default“ desktop_text_alignment=“default“ tablet_text_alignment=“default“ phone_text_alignment=“default“ background_color_opacity=“1″ background_hover_color_opacity=“1″ column_backdrop_filter=“none“ column_shadow=“none“ column_border_radius=“none“ column_link_target=“_self“ column_position=“default“ gradient_direction=“left_to_right“ overlay_strength=“0.3″ width=“1/1″ tablet_width_inherit=“default“ animation_type=“default“ bg_image_animation=“none“ border_type=“simple“ column_border_width=“none“ column_border_style=“solid“][vc_column_text]boo[/vc_column_text][/vc_column][/vc_row][vc_row type=“in_container“ full_screen_row_position=“middle“ column_margin=“default“ column_direction=“default“ column_direction_tablet=“default“ column_direction_phone=“default“ scene_position=“center“ text_color=“dark“ text_align=“left“ row_border_radius=“none“ row_border_radius_applies=“bg“ overflow=“visible“ overlay_strength=“0.3″ gradient_direction=“left_to_right“ shape_divider_position=“bottom“ bg_image_animation=“none“][vc_column column_padding=“padding-8-percent“ column_padding_tablet=“inherit“ column_padding_phone=“inherit“ column_padding_position=“all“ translate_y_phone=“-71″ translate_x_phone=“-70″ column_element_direction_desktop=“default“ column_element_spacing=“20px“ desktop_text_alignment=“default“ tablet_text_alignment=“default“ phone_text_alignment=“default“ background_color_opacity=“1″ background_hover_color_opacity=“1″ column_backdrop_filter=“none“ column_shadow=“none“ column_border_radius=“none“ column_link_target=“_self“ column_position=“default“ gradient_direction=“left_to_right“ overlay_strength=“0.3″ width=“1/3″ tablet_width_inherit=“default“ animation_type=“default“ bg_image_animation=“none“ border_type=“simple“ column_border_width=“none“ column_border_style=“solid“ column_padding_type=“default“ gradient_type=“default“][/vc_column][vc_column column_padding=“padding-8-percent“ column_padding_tablet=“inherit“ column_padding_phone=“inherit“ column_padding_position=“all“ translate_y_phone=“-70″ translate_x_phone=“-70″ column_element_direction_desktop=“default“ column_element_spacing=“20px“ desktop_text_alignment=“default“ tablet_text_alignment=“default“ phone_text_alignment=“default“ background_color_opacity=“1″ background_hover_color_opacity=“1″ column_backdrop_filter=“none“ column_shadow=“none“ column_border_radius=“none“ column_link_target=“_self“ column_position=“default“ gradient_direction=“left_to_right“ overlay_strength=“0.3″ width=“1/3″ tablet_width_inherit=“default“ animation_type=“default“ bg_image_animation=“none“ border_type=“simple“ column_border_width=“none“ column_border_style=“solid“ column_padding_type=“default“ gradient_type=“default“][/vc_column][vc_column column_padding=“padding-8-percent“ column_padding_tablet=“inherit“ column_padding_phone=“inherit“ column_padding_position=“all“ top_margin_phone=“-20″ bottom_margin_phone=“-20″ left_margin_phone=“-20″ right_margin_phone=“-20″ translate_y_phone=“-70″ translate_x_phone=“-70″ column_element_direction_desktop=“default“ column_element_spacing=“default“ desktop_text_alignment=“default“ tablet_text_alignment=“default“ phone_text_alignment=“default“ background_color_opacity=“1″ background_hover_color_opacity=“1″ column_backdrop_filter=“none“ column_shadow=“none“ column_border_radius=“none“ column_link_target=“_self“ column_position=“default“ gradient_direction=“left_to_right“ overlay_strength=“0.3″ width=“1/3″ tablet_width_inherit=“default“ animation_type=“default“ bg_image_animation=“none“ border_type=“simple“ column_border_width=“none“ column_border_style=“solid“ column_padding_type=“default“ gradient_type=“default“][/vc_column][/vc_row][vc_row type=“in_container“ full_screen_row_position=“middle“ column_margin=“default“ column_direction=“default“ column_direction_tablet=“default“ column_direction_phone=“default“ scene_position=“center“ text_color=“dark“ text_align=“left“ row_border_radius=“none“ row_border_radius_applies=“bg“ overflow=“visible“ overlay_strength=“0.3″ gradient_direction=“left_to_right“ shape_divider_position=“bottom“ bg_image_animation=“none“][vc_column column_padding=“no-extra-padding“ column_padding_tablet=“inherit“ column_padding_phone=“inherit“ column_padding_position=“all“ column_element_direction_desktop=“default“ column_element_spacing=“default“ desktop_text_alignment=“default“ tablet_text_alignment=“default“ phone_text_alignment=“default“ background_color_opacity=“1″ background_hover_color_opacity=“1″ column_backdrop_filter=“none“ column_shadow=“none“ column_border_radius=“none“ column_link_target=“_self“ column_position=“default“ gradient_direction=“left_to_right“ overlay_strength=“0.3″ width=“1/1″ tablet_width_inherit=“default“ animation_type=“default“ bg_image_animation=“none“ border_type=“simple“ column_border_width=“none“ column_border_style=“solid“][vc_column_text css=““ text_direction=“default“]Please read the info sheet before registration !  \nCabinet Séance: info sheet Cab e 2024 \nDO YOU WANT TO GET IN TOUCH WITH REAL SPIRITUAL BEINGS?  Then you are right in a cabinet séance.\nYou will never forget this evening! \nCome to our cabinet seance with Kai and Julia Muegge – It is important that you read the info sheets well and follow the rules. \nAn initiation-like experience at the age of 12 triggered Kai’s interest and activities. Since early childhood he was allowed to experience natural OBE’s (Out of Body Experiences) and has been communicating with spirit beings ever since. \nIn 2012 Kai married his Julia and the mediumship became a worldwide mission. \nTo prepare\, it is important to watch the video by clicking here: \nhttps://www.youtube.com/watch?v=1FsJ30LTWsM \nYou can also switch on the translation\, proceed as follows:\n– click on the settings (gear wheel)\n– click on “Subtitles” and select your language \nPlease subscribe:  www.youtube.com/user/TvBeYond\nFacebook: Kai Muegge – Physical medium \nAGBs General Terms and Conditions2024[/vc_column_text][/vc_column][/vc_row]
URL:https://kaimuegge.com/event/15june25-denmark-cabinet-seance/
LOCATION:Aarhus Denmark\, Aarhus\, Denmark
CATEGORIES:Workshop
ATTACH;FMTTYPE=image/jpeg:https://kaimuegge.com/wp-content/uploads/2024/11/25-03-denmark.jpg
END:VEVENT
END:VCALENDAR