BEGIN:VCALENDAR
VERSION:2.0
PRODID:-//Kai Muegge Physical Mediumship - ECPv6.15.20//NONSGML v1.0//EN
CALSCALE:GREGORIAN
METHOD:PUBLISH
X-ORIGINAL-URL:https://kaimuegge.com
X-WR-CALDESC:Veranstaltungen für Kai Muegge Physical Mediumship
REFRESH-INTERVAL;VALUE=DURATION:PT1H
X-Robots-Tag:noindex
X-PUBLISHED-TTL:PT1H
BEGIN:VTIMEZONE
TZID:UTC
BEGIN:STANDARD
TZOFFSETFROM:+0000
TZOFFSETTO:+0000
TZNAME:UTC
DTSTART:20230101T000000
END:STANDARD
END:VTIMEZONE
BEGIN:VEVENT
DTSTART;TZID=UTC:20240524T190000
DTEND;TZID=UTC:20240524T235900
DTSTAMP:20260424T221336
CREATED:20231221T024004Z
LAST-MODIFIED:20240502T200241Z
UID:2352-1716577200-1716595140@kaimuegge.com
SUMMARY:24th May 2024 Stora mellösa Sweden - Table-Séance
DESCRIPTION:Please read the info sheet before registration !  \ninfo sheet Table e \nThe table séances of the Felix Circle serve to productively bring energies together on different levels. In combination with a deep trance séance on the following evening\, the seated\, space and spirit team energies are aligned in the table séance in order to achieve the foundations and conditions for the best possible results on both evenings! \nTable séances take place in a setting in the tradition of the famous Physical Medium Eusapia Paladino. It is characterized by a special physical integration of the sitters into the events and by very special classes of phenomena\, which do not play a role on the following evening – or basically in the deep trance cabinet séances. It is the same the other way round. \nSo there are two different full séance scenarios here\, whereby the table séance can generate supporting\, respectively optimizing elements for the cabinet séance. Both séance settings function thereby also completely independently of each other! \nDue to the integrative momentum\, table seances are therefore especially suitable for new sitters\, who are thus logically introduced to the various escalation levels of the phenomenon classes and may experience an incredible variety of phenomena and communication forms! \nTo prepare\, it would be good if you watched this video: https://www.youtube.com/watch?v=0QSKhaPrJwE (please turn on english subtitles) \nPlease subscribe:  www.youtube.com/user/TvBeYond\nFacebook page and group: Kai Muegge – Physical medium \nIf you have registered by the organizer Ronny:  inzide@live.se \, please fill out this online form.  Register here
URL:https://kaimuegge.com/event/may-24-sweden-table-seance/
LOCATION:Stora Mellösa\, Kumla\, 69233\, Sweden
CATEGORIES:Cabinet-Séance,Table-Séance
ATTACH;FMTTYPE=image/png:https://kaimuegge.com/wp-content/uploads/2023/12/sweden-may24.png
ORGANIZER;CN="Ronny Wulf":MAILTO:inzide@live.se
END:VEVENT
BEGIN:VEVENT
DTSTART;TZID=UTC:20240525T190000
DTEND;TZID=UTC:20240525T235900
DTSTAMP:20260424T221336
CREATED:20240216T034048Z
LAST-MODIFIED:20240502T200159Z
UID:2399-1716663600-1716681540@kaimuegge.com
SUMMARY:25th May 2024 Stora mellösa Sweden - Cabinet-Séance
DESCRIPTION:Please read the info sheet before registration !  \ninfo sheet Cab e \nDO YOU WANT TO GET IN TOUCH WITH THE POWER OF EXTRAORDINARY HIGHER ORGANIZED SPIRITUAL BEINGS?  DO YOU WANT TO TRANSCEND YOUR SPIRITUALITY ON A TOTALLY NEW LEVEL OF EXPERIENCE? \nJOIN US! For classical Materialization Séances\, live deep-trance events held following the regulations from the teachings of the European Experimental Mediumship Scholarship from the heydays of Parapsychology and Spiritism on the European Inland – a mystifying unforgettable journey to the profound regions of the human soul and ritual! \nCome and take part in the ceremony with Kai and Julia Muegge \n– It is important that you read yourself concentrated through the whole info sheet and follow the rules under every circumstance. \nOne of different initiation-like experiences at the age of 12 triggered Kai’s interest and activities. He was allowed to experience spirits during natural OBE’s (Out of Body Experiences) since his early childhood at the age of four – and has been communicating with spirit beings ever since. \nSince his study times at the College of Higher Education in Frankfurt he was counseling poltergeist victims and was treating so-called ‚occupations‘ with alternative methods.\nAfter responsible jobs in the software industry and for film and television (Kai is a registered journalist and has produced news clips\, commercials and several documentaries for German TV)\, Nov./Dec. 2004 the Felix Experimental Circle was founded\, which has supported Kai’s mediumistic development until today. \nIn 2012 Kai married his Julia and the mediumship became a worldwide mission. \nTo prepare\, it would be good if you watched this video: https://www.youtube.com/watch?v=1FsJ30LTWsM (please turn on english subtitles) \nPlease subscribe:  www.youtube.com/user/TvBeYond\nFacebook: Kai Muegge – Physical medium \nHow to register? First send to the organizer Ronny Wulf an email: inzide@live.se  and if you get your space then please click here: \nRegister here
URL:https://kaimuegge.com/event/may-25-sweden-cabinet-seance-copy/
LOCATION:Stora Mellösa\, Kumla\, 69233\, Sweden
CATEGORIES:Cabinet-Séance,Table-Séance
ATTACH;FMTTYPE=image/png:https://kaimuegge.com/wp-content/uploads/2023/12/sweden-may24.png
ORGANIZER;CN="Ronny Wulf":MAILTO:inzide@live.se
END:VEVENT
BEGIN:VEVENT
DTSTART;TZID=UTC:20240526T180000
DTEND;TZID=UTC:20240526T235900
DTSTAMP:20260424T221336
CREATED:20240216T035521Z
LAST-MODIFIED:20250218T141520Z
UID:2405-1716746400-1716767940@kaimuegge.com
SUMMARY:26th May 2024 Stora Mellösa Sweden - Cabinet-Séance
DESCRIPTION:Please read the info sheet before registration !  \ninfo sheet Cab e \nDO YOU WANT TO GET IN TOUCH WITH THE POWER OF EXTRAORDINARY HIGHER ORGANIZED SPIRITUAL BEINGS?  DO YOU WANT TO TRANSCEND YOUR SPIRITUALITY ON A TOTALLY NEW LEVEL OF EXPERIENCE? \nJOIN US! For classical Materialization Séances\, live deep-trance events held following the regulations from the teachings of the European Experimental Mediumship Scholarship. \nIn 2012 Kai married his Julia and the mediumship became a worldwide mission. \nTo prepare\, it would be good if you watched this video: http://Table Experiment \nhttps://www.youtube.com/watch?v=1FsJ30LTWsM (please turn on english subtitles) \nPlease subscribe:  www.youtube.com/user/TvBeYond\nFacebook: Kai Muegge – Physical medium \nHow to register? First send to the organizer Ronny Wulf an email: inzide@live.se  and if you get your space then please click here: \nRegister here \nregistration deadline has ended
URL:https://kaimuegge.com/event/may-26-sweden-cabinet-seance/
LOCATION:Stora Mellösa\, Kumla\, 69233\, Sweden
CATEGORIES:Cabinet-Séance,Table-Séance
ATTACH;FMTTYPE=image/png:https://kaimuegge.com/wp-content/uploads/2023/12/sweden-may24.png
ORGANIZER;CN="Ronny Wulf":MAILTO:inzide@live.se
END:VEVENT
END:VCALENDAR