BEGIN:VCALENDAR
VERSION:2.0
PRODID:-//Kai Muegge Physical Mediumship - ECPv6.15.20//NONSGML v1.0//EN
CALSCALE:GREGORIAN
METHOD:PUBLISH
X-ORIGINAL-URL:https://kaimuegge.com
X-WR-CALDESC:Veranstaltungen für Kai Muegge Physical Mediumship
REFRESH-INTERVAL;VALUE=DURATION:PT1H
X-Robots-Tag:noindex
X-PUBLISHED-TTL:PT1H
BEGIN:VTIMEZONE
TZID:UTC
BEGIN:STANDARD
TZOFFSETFROM:+0000
TZOFFSETTO:+0000
TZNAME:UTC
DTSTART:20240101T000000
END:STANDARD
END:VTIMEZONE
BEGIN:VEVENT
DTSTART;TZID=UTC:20250314T190000
DTEND;TZID=UTC:20250314T235900
DTSTAMP:20260422T065233
CREATED:20241114T013909Z
LAST-MODIFIED:20250218T141346Z
UID:2682-1741978800-1741996740@kaimuegge.com
SUMMARY:14th March 2025 Aarhus Denmark - Table-Séance - fully booked
DESCRIPTION:Please read the info sheet before registration !  \ninfo sheet Table e 2024\nThe table séances of the Felix Circle serve to productively bring energies together on different levels. In combination with a deep trance séance on the following evening\, the seated\, space and spirit team energies are aligned in the table séance in order to achieve the foundations and conditions for the best possible results on both evenings! \nTable séances take place in a setting in the tradition of the famous Physical Medium Eusapia Paladino. It is characterized by a special physical integration of the sitters into the events and by very special classes of phenomena\, which do not play a role on the following evening – or basically in the deep trance cabinet séances. It is the same the other way round. \nSo there are two different full séance scenarios here\, whereby the table séance can generate supporting\, respectively optimizing elements for the cabinet séance. Both séance settings function thereby also completely independently of each other! \nDue to the integrative momentum\, table seances are therefore especially suitable for new sitters\, who are thus logically introduced to the various escalation levels of the phenomenon classes and may experience an incredible variety of phenomena and communication forms! \nTo prepare\, it would be good if you watched this video: https://www.youtube.com/watch?v=0QSKhaPrJwE (please turn on english subtitles) \nPlease subscribe:  www.youtube.com/user/TvBeYond\nFacebook page and group: Kai Muegge – Physical medium
URL:https://kaimuegge.com/event/mar14-2025-denmark-table-seance/
LOCATION:Aarhus Denmark\, Aarhus\, Denmark
CATEGORIES:Cabinet-Séance,Table-Séance
ATTACH;FMTTYPE=image/jpeg:https://kaimuegge.com/wp-content/uploads/2024/11/25-03-denmark.jpg
END:VEVENT
END:VCALENDAR